BEGIN:VCALENDAR
VERSION:2.0
PRODID:-//Program Studi S2-Geografi - ECPv6.15.13//NONSGML v1.0//EN
CALSCALE:GREGORIAN
METHOD:PUBLISH
X-WR-CALNAME:Program Studi S2-Geografi
X-ORIGINAL-URL:https://fmipa.uho.ac.id/magistergeografi
X-WR-CALDESC:Events for Program Studi S2-Geografi
REFRESH-INTERVAL;VALUE=DURATION:PT1H
X-Robots-Tag:noindex
X-PUBLISHED-TTL:PT1H
BEGIN:VTIMEZONE
TZID:Asia/Shanghai
BEGIN:STANDARD
TZOFFSETFROM:+0800
TZOFFSETTO:+0800
TZNAME:CST
DTSTART:20240101T000000
END:STANDARD
END:VTIMEZONE
BEGIN:VEVENT
DTSTART;TZID=Asia/Shanghai:20251001T073000
DTEND;TZID=Asia/Shanghai:20251001T090000
DTSTAMP:20260421T222034
CREATED:20250930T231841Z
LAST-MODIFIED:20250930T231841Z
UID:7972-1759303800-1759309200@fmipa.uho.ac.id
SUMMARY:Upacara Memperingati Hari Kesaktian Pancasila
DESCRIPTION:
URL:https://fmipa.uho.ac.id/magistergeografi/agenda/upacara-memperingati-hari-kesaktian-pancasila/
LOCATION:Halaman Rektorat
CATEGORIES:Fakultas,Universitas
END:VEVENT
BEGIN:VEVENT
DTSTART;TZID=Asia/Shanghai:20250924T090000
DTEND;TZID=Asia/Shanghai:20250926T160000
DTSTAMP:20260421T222034
CREATED:20250923T013612Z
LAST-MODIFIED:20250924T100332Z
UID:7952-1758704400-1758902400@fmipa.uho.ac.id
SUMMARY:Masa Sanggah atas Hasil Penilaian BKDR Semester Genap 2024/2025
DESCRIPTION:
URL:https://fmipa.uho.ac.id/magistergeografi/agenda/masa-sanggah-atas-hasil-penilaian-bkdr-semester-genap-2024-2025/
LOCATION:Ruang Rapat Bagian Perencanaan\, Rektorat Lantai 2
CATEGORIES:Fakultas,Universitas
END:VEVENT
BEGIN:VEVENT
DTSTART;TZID=Asia/Shanghai:20250919T130000
DTEND;TZID=Asia/Shanghai:20250919T150000
DTSTAMP:20260421T222034
CREATED:20250918T105638Z
LAST-MODIFIED:20250919T021252Z
UID:7769-1758286800-1758294000@fmipa.uho.ac.id
SUMMARY:Sosialisasi Pengisian Data AMI Siklus 7
DESCRIPTION:
URL:https://fmipa.uho.ac.id/magistergeografi/agenda/sosialisasi-pengisian-data-ami-siklus-7/
LOCATION:Zoom Meeting
CATEGORIES:Fakultas,Program Studi,Universitas
END:VEVENT
BEGIN:VEVENT
DTSTART;TZID=Asia/Shanghai:20250917T080000
DTEND;TZID=Asia/Shanghai:20250917T170000
DTSTAMP:20260421T222034
CREATED:20250831T170641Z
LAST-MODIFIED:20250914T060951Z
UID:6478-1758096000-1758128400@fmipa.uho.ac.id
SUMMARY:Upacara Hari Kesadaran Nasional
DESCRIPTION:
URL:https://fmipa.uho.ac.id/magistergeografi/agenda/upacara-hari-kesadaran-nasional/
LOCATION:Halaman Rektorat
CATEGORIES:Fakultas,Universitas
END:VEVENT
BEGIN:VEVENT
DTSTART;TZID=Asia/Shanghai:20250915T100000
DTEND;TZID=Asia/Shanghai:20250915T170000
DTSTAMP:20260421T222034
CREATED:20251004T034438Z
LAST-MODIFIED:20251004T034438Z
UID:7999-1757930400-1757955600@fmipa.uho.ac.id
SUMMARY:Rapat Senat: Pertimbangan Usulan Jabatan Fungsional Dosen Lingkup FMIPA
DESCRIPTION:
URL:https://fmipa.uho.ac.id/magistergeografi/agenda/rapat-senat-pertimbangan-usulan-jabatan-fungsional-dosen-lingkup-fmipa/
LOCATION:Ruang Rapat Senat Fakultas
CATEGORIES:Fakultas,Senat
END:VEVENT
BEGIN:VEVENT
DTSTART;TZID=Asia/Shanghai:20250912T080000
DTEND;TZID=Asia/Shanghai:20250912T113000
DTSTAMP:20260421T222034
CREATED:20250909T112122Z
LAST-MODIFIED:20250914T032451Z
UID:7384-1757664000-1757676600@fmipa.uho.ac.id
SUMMARY:Sharing Session Tema  From Rock to Rig: How Geoscientists Uncover Hydrocarbon Resources
DESCRIPTION:
URL:https://fmipa.uho.ac.id/magistergeografi/agenda/sharing-session-tema-from-rock-to-rig-how-geoscientists-uncover-hydrocarbon-resources/
LOCATION:Aula Fakultas Lantai 3
CATEGORIES:Fakultas,Universitas
END:VEVENT
BEGIN:VEVENT
DTSTART;TZID=Asia/Shanghai:20250904T180000
DTEND;TZID=Asia/Shanghai:20250904T180000
DTSTAMP:20260421T222034
CREATED:20250831T170438Z
LAST-MODIFIED:20250907T122632Z
UID:6476-1757008800-1757008800@fmipa.uho.ac.id
SUMMARY:Rapat Persiapan Soft Launching Website Fakuktas
DESCRIPTION:
URL:https://fmipa.uho.ac.id/magistergeografi/agenda/tes-agenda/
LOCATION:Ruang Rapat Dekanat
CATEGORIES:Fakultas,Universitas
END:VEVENT
BEGIN:VEVENT
DTSTART;TZID=Asia/Shanghai:20250831T143000
DTEND;TZID=Asia/Shanghai:20250901T010000
DTSTAMP:20260421T222034
CREATED:20250824T230323Z
LAST-MODIFIED:20250906T230733Z
UID:7276-1756650600-1756688400@fmipa.uho.ac.id
SUMMARY:Penerimaan Mahasiswa Baru TA 2025
DESCRIPTION:
URL:https://fmipa.uho.ac.id/magistergeografi/agenda/penerimaan-mahasiswa-baru/
LOCATION:Lapangan Sport Center Universitas
CATEGORIES:Universitas
END:VEVENT
BEGIN:VEVENT
DTSTART;TZID=Asia/Shanghai:20250821T160000
DTEND;TZID=Asia/Shanghai:20250822T010000
DTSTAMP:20260421T222034
CREATED:20250830T002029Z
LAST-MODIFIED:20250830T002029Z
UID:6469-1755792000-1755824400@fmipa.uho.ac.id
SUMMARY:Upacara Dies Natalis
DESCRIPTION:
URL:https://fmipa.uho.ac.id/magistergeografi/agenda/upacara-dies-natalis/
CATEGORIES:Fakultas,Program Studi,Universitas
END:VEVENT
BEGIN:VEVENT
DTSTART;TZID=Asia/Shanghai:20250817T153000
DTEND;TZID=Asia/Shanghai:20250817T163000
DTSTAMP:20260421T222034
CREATED:20250906T232323Z
LAST-MODIFIED:20250907T023821Z
UID:7283-1755444600-1755448200@fmipa.uho.ac.id
SUMMARY:Upacara HUT RI ke 80
DESCRIPTION:
URL:https://fmipa.uho.ac.id/magistergeografi/agenda/upacara-hut-ri-ke-80/
LOCATION:Halaman Rektorat
CATEGORIES:Fakultas,Universitas
END:VEVENT
END:VCALENDAR